DSET ^gpcc_10_mon.dat
TITLE GPCC rain gauge precipitation dataset
OPTIONS LITTLE_ENDIAN YREV
UNDEF 3e33
XDEF 360 LINEAR -179.50 1.00
YDEF 180 LINEAR -89.50 1.00
ZDEF 1 LINEAR 0 1
TDEF 329 LINEAR 15JAN1986 1MO
VARS 1
prcp 1 0 precipitation [mm/month]
ENDVARS
