DSET ^vmax.grd
OPTIONS LITTLE_ENDIAN
UNDEF 3e33
XDEF 72 LINEAR 2.500 5.000
YDEF 36 LINEAR -87.500 5.000
ZDEF 1 LINEAR 0 1
TDEF 1920 LINEAR 15JAN1851 1MO
VARS 1
vmax 0 99 maximum 1-minute wind speed at 10m in grid box [m/s]
ENDVARS
